BEGIN:VCALENDAR
VERSION:2.0
PRODID:-//hacksw/handcal//NONSGML v1.0//EN
CALSCALE:GREGORIAN
BEGIN:VEVENT
DTSTART:20151206T080000Z
DTEND:20151206T080000Z
UID:e16513
DTSTAMP:20260419T185428Z
LOCATION:Sussman Family Building for Environmental Sciences
DESCRIPTION:Depositional controls on preserved sulfur isotope signals in modern and ancient marine sediments
SUMMARY:Depositional controls on preserved sulfur isotope signals in modern and ancient marine sediments
END:VEVENT
END:VCALENDAR