BEGIN:VCALENDAR
VERSION:2.0
PRODID:-//hacksw/handcal//NONSGML v1.0//EN
CALSCALE:GREGORIAN
BEGIN:VEVENT
DTSTART:20151124T090000Z
DTEND:20151124T090000Z
UID:e16517
DTSTAMP:20260421T173916Z
LOCATION:
DESCRIPTION:“6D (1\, 0) SCFTS AND THEIR COMPACTIFICATIONS: A HOLOGRAPHIC APPROACH”
SUMMARY:“6D (1\, 0) SCFTS AND THEIR COMPACTIFICATIONS: A HOLOGRAPHIC APPROACH”
END:VEVENT
END:VCALENDAR