BEGIN:VCALENDAR
VERSION:2.0
PRODID:-//hacksw/handcal//NONSGML v1.0//EN
CALSCALE:GREGORIAN
BEGIN:VEVENT
DTSTART:20151125T100000Z
DTEND:20151125T100000Z
UID:e16520
DTSTAMP:20260421T102933Z
LOCATION:Edna and K.B. Weissman Building of Physical Sciences
DESCRIPTION:The Higgs Mass in the MSSM at two-loop order beyond MFV
SUMMARY:The Higgs Mass in the MSSM at two-loop order beyond MFV
END:VEVENT
END:VCALENDAR