BEGIN:VCALENDAR
VERSION:2.0
PRODID:-//hacksw/handcal//NONSGML v1.0//EN
CALSCALE:GREGORIAN
BEGIN:VEVENT
DTSTART:20151202T080000Z
DTEND:20151202T080000Z
UID:e16532
DTSTAMP:20260420T062949Z
LOCATION:Wolfson Building for Biological Research
DESCRIPTION:Sphingosine-1-phosphate: a key regulator of the link between inflammation and cancer
SUMMARY:Sphingosine-1-phosphate: a key regulator of the link between inflammation and cancer
END:VEVENT
END:VCALENDAR