BEGIN:VCALENDAR
VERSION:2.0
PRODID:-//hacksw/handcal//NONSGML v1.0//EN
CALSCALE:GREGORIAN
BEGIN:VEVENT
DTSTART:20151208T081500Z
DTEND:20151208T081500Z
UID:e16538
DTSTAMP:20260419T185538Z
LOCATION:Ullmann Building of Life Sciences
DESCRIPTION:Discovering and Developing the next generation of Crops at Dupont Pioneer
SUMMARY:Discovering and Developing the next generation of Crops at Dupont Pioneer
END:VEVENT
END:VCALENDAR