BEGIN:VCALENDAR
VERSION:2.0
PRODID:-//hacksw/handcal//NONSGML v1.0//EN
CALSCALE:GREGORIAN
BEGIN:VEVENT
DTSTART:20151130T061500Z
DTEND:20151130T080000Z
UID:e16542
DTSTAMP:20260420T045932Z
LOCATION:Arthur and Rochelle Belfer Building for Biomedical Research
DESCRIPTION:Flux controls flux – how microbes regulate their metabolism
SUMMARY:Flux controls flux – how microbes regulate their metabolism
END:VEVENT
END:VCALENDAR