BEGIN:VCALENDAR
VERSION:2.0
PRODID:-//hacksw/handcal//NONSGML v1.0//EN
CALSCALE:GREGORIAN
BEGIN:VEVENT
DTSTART:20160114T183000Z
DTEND:20160114T183000Z
UID:e16545
DTSTAMP:20260419T182158Z
LOCATION:Michael Sela Auditorium
DESCRIPTION:Hanoch Daum - Stand up 
SUMMARY:Hanoch Daum - Stand up 
END:VEVENT
END:VCALENDAR