BEGIN:VCALENDAR
VERSION:2.0
PRODID:-//hacksw/handcal//NONSGML v1.0//EN
CALSCALE:GREGORIAN
BEGIN:VEVENT
DTSTART:20160126T133000Z
DTEND:20160126T153000Z
UID:e16548
DTSTAMP:20260420T062948Z
LOCATION:Michael Sela Auditorium
DESCRIPTION:Afternoon Music :The Israel camerata Jerusalem - Free entrance 
SUMMARY:Afternoon Music :The Israel camerata Jerusalem - Free entrance 
END:VEVENT
END:VCALENDAR