BEGIN:VCALENDAR
VERSION:2.0
PRODID:-//hacksw/handcal//NONSGML v1.0//EN
CALSCALE:GREGORIAN
BEGIN:VEVENT
DTSTART:20151201T081500Z
DTEND:20151201T081500Z
UID:e16556
DTSTAMP:20260420T045836Z
LOCATION:Ullmann Building of Life Sciences
DESCRIPTION:Sponges - ancient organisms innovative research
SUMMARY:Sponges - ancient organisms innovative research
END:VEVENT
END:VCALENDAR