BEGIN:VCALENDAR
VERSION:2.0
PRODID:-//hacksw/handcal//NONSGML v1.0//EN
CALSCALE:GREGORIAN
BEGIN:VEVENT
DTSTART:20160211T081500Z
DTEND:20160211T093000Z
UID:e16578
DTSTAMP:20260420T195141Z
LOCATION:Edna and K.B. Weissman Building of Physical Sciences
DESCRIPTION:A spins-inside quantum processor
SUMMARY:A spins-inside quantum processor
END:VEVENT
END:VCALENDAR