BEGIN:VCALENDAR
VERSION:2.0
PRODID:-//hacksw/handcal//NONSGML v1.0//EN
CALSCALE:GREGORIAN
BEGIN:VEVENT
DTSTART:20160218T081500Z
DTEND:20160218T093000Z
UID:e16579
DTSTAMP:20260420T122412Z
LOCATION:Edna and K.B. Weissman Building of Physical Sciences
DESCRIPTION:Exploring Quantum Simulations with Superconducting Cir-cuits
SUMMARY:Exploring Quantum Simulations with Superconducting Cir-cuits
END:VEVENT
END:VCALENDAR