BEGIN:VCALENDAR
VERSION:2.0
PRODID:-//hacksw/handcal//NONSGML v1.0//EN
CALSCALE:GREGORIAN
BEGIN:VEVENT
DTSTART:19691231T160000Z
DTEND:19691231T160000Z
UID:e16586
DTSTAMP:20260419T100512Z
LOCATION:Edna and K.B. Weissman Building of Physical Sciences
DESCRIPTION:Electromechanics: A new quantum technology
SUMMARY:Electromechanics: A new quantum technology
END:VEVENT
END:VCALENDAR