BEGIN:VCALENDAR
VERSION:2.0
PRODID:-//hacksw/handcal//NONSGML v1.0//EN
CALSCALE:GREGORIAN
BEGIN:VEVENT
DTSTART:20160519T081500Z
DTEND:20160519T093000Z
UID:e16588
DTSTAMP:20260419T185600Z
LOCATION:Edna and K.B. Weissman Building of Physical Sciences
DESCRIPTION:Theoretical applications of topological insulators: a new window into quantum matter
SUMMARY:Theoretical applications of topological insulators: a new window into quantum matter
END:VEVENT
END:VCALENDAR