BEGIN:VCALENDAR
VERSION:2.0
PRODID:-//hacksw/handcal//NONSGML v1.0//EN
CALSCALE:GREGORIAN
BEGIN:VEVENT
DTSTART:20151217T093000Z
DTEND:20151217T103000Z
UID:e16644
DTSTAMP:20260420T050128Z
LOCATION:Arthur and Rochelle Belfer Building for Biomedical Research
DESCRIPTION:Virology club (special seminar)
SUMMARY:Virology club (special seminar)
END:VEVENT
END:VCALENDAR