BEGIN:VCALENDAR
VERSION:2.0
PRODID:-//hacksw/handcal//NONSGML v1.0//EN
CALSCALE:GREGORIAN
BEGIN:VEVENT
DTSTART:20151216T110000Z
DTEND:20151216T110000Z
UID:e16658
DTSTAMP:20260420T091551Z
LOCATION:Dolfi and Lola Ebner Auditorium
DESCRIPTION:The Neuroscience of Avatars
SUMMARY:The Neuroscience of Avatars
END:VEVENT
END:VCALENDAR