BEGIN:VCALENDAR
VERSION:2.0
PRODID:-//hacksw/handcal//NONSGML v1.0//EN
CALSCALE:GREGORIAN
BEGIN:VEVENT
DTSTART:20160419T110000Z
DTEND:20160419T120000Z
UID:e16683
DTSTAMP:20260419T100434Z
LOCATION:Camelia Botnar Building
DESCRIPTION:DNA damage signaling to mitochondria in neurodegeneration and aging
SUMMARY:DNA damage signaling to mitochondria in neurodegeneration and aging
END:VEVENT
END:VCALENDAR