BEGIN:VCALENDAR
VERSION:2.0
PRODID:-//hacksw/handcal//NONSGML v1.0//EN
CALSCALE:GREGORIAN
BEGIN:VEVENT
DTSTART:20160212T140000Z
DTEND:20160212T153000Z
UID:e16684
DTSTAMP:20260421T051623Z
LOCATION:Michael Sela Auditorium
DESCRIPTION:Magician tricks bubble show - children's theater in Russian  
SUMMARY:Magician tricks bubble show - children's theater in Russian  
END:VEVENT
END:VCALENDAR