BEGIN:VCALENDAR
VERSION:2.0
PRODID:-//hacksw/handcal//NONSGML v1.0//EN
CALSCALE:GREGORIAN
BEGIN:VEVENT
DTSTART:19691231T160000Z
DTEND:19691231T160000Z
UID:e16691
DTSTAMP:20260420T050138Z
LOCATION:
DESCRIPTION:Joint Weizmann  SIMS Symposium on Stem Cell Biology
SUMMARY:Joint Weizmann  SIMS Symposium on Stem Cell Biology
END:VEVENT
END:VCALENDAR