BEGIN:VCALENDAR
VERSION:2.0
PRODID:-//hacksw/handcal//NONSGML v1.0//EN
CALSCALE:GREGORIAN
BEGIN:VEVENT
DTSTART:20151224T110000Z
DTEND:20151224T120000Z
UID:e16692
DTSTAMP:20260419T231706Z
LOCATION:Wolfson Building for Biological Research
DESCRIPTION:CEACAM1 in metastatic melanoma
SUMMARY:CEACAM1 in metastatic melanoma
END:VEVENT
END:VCALENDAR