BEGIN:VCALENDAR
VERSION:2.0
PRODID:-//hacksw/handcal//NONSGML v1.0//EN
CALSCALE:GREGORIAN
BEGIN:VEVENT
DTSTART:20160219T170000Z
DTEND:20160219T194500Z
UID:e16709
DTSTAMP:20260420T173720Z
LOCATION:Michael Sela Auditorium
DESCRIPTION:"Nathan's friends" on the stage - Chokerlia band \,Dina Or comedian 
SUMMARY:"Nathan's friends" on the stage - Chokerlia band \,Dina Or comedian 
END:VEVENT
END:VCALENDAR