BEGIN:VCALENDAR
VERSION:2.0
PRODID:-//hacksw/handcal//NONSGML v1.0//EN
CALSCALE:GREGORIAN
BEGIN:VEVENT
DTSTART:20160117T110000Z
DTEND:20160117T120000Z
UID:e16737
DTSTAMP:20260420T155052Z
LOCATION:Raoul and Graziella de Picciotto Building for Scientific and Technical Support
DESCRIPTION:"Chemistry on Chromatin: Modifying Histones In Vivo Using Protein Trans-Splicing"
SUMMARY:"Chemistry on Chromatin: Modifying Histones In Vivo Using Protein Trans-Splicing"
END:VEVENT
END:VCALENDAR