BEGIN:VCALENDAR
VERSION:2.0
PRODID:-//hacksw/handcal//NONSGML v1.0//EN
CALSCALE:GREGORIAN
BEGIN:VEVENT
DTSTART:20160118T110000Z
DTEND:20160118T120000Z
UID:e16740
DTSTAMP:20260420T115920Z
LOCATION:Raoul and Graziella de Picciotto Building for Scientific and Technical Support
DESCRIPTION:Closing CRACs: Regulation of Intracellular Calcium Signals Around Organelles
SUMMARY:Closing CRACs: Regulation of Intracellular Calcium Signals Around Organelles
END:VEVENT
END:VCALENDAR