BEGIN:VCALENDAR
VERSION:2.0
PRODID:-//hacksw/handcal//NONSGML v1.0//EN
CALSCALE:GREGORIAN
BEGIN:VEVENT
DTSTART:20160406T070000Z
DTEND:20160406T133000Z
UID:e16754
DTSTAMP:20260421T102849Z
LOCATION:Jacob Ziskind Building
DESCRIPTION:New Perspectives on Distributed Computing Systems: Workshop in Honor of Barbara Liskov
SUMMARY:New Perspectives on Distributed Computing Systems: Workshop in Honor of Barbara Liskov
END:VEVENT
END:VCALENDAR