BEGIN:VCALENDAR
VERSION:2.0
PRODID:-//hacksw/handcal//NONSGML v1.0//EN
CALSCALE:GREGORIAN
BEGIN:VEVENT
DTSTART:20160112T093000Z
DTEND:20160112T093000Z
UID:e16757
DTSTAMP:20260421T180758Z
LOCATION:Nella and Leon Benoziyo Building for Brain Research
DESCRIPTION:PKA signaling network: Visualizing through Macromolecular Assembly and High Resolution Imaging of the Brain
SUMMARY:PKA signaling network: Visualizing through Macromolecular Assembly and High Resolution Imaging of the Brain
END:VEVENT
END:VCALENDAR