BEGIN:VCALENDAR
VERSION:2.0
PRODID:-//hacksw/handcal//NONSGML v1.0//EN
CALSCALE:GREGORIAN
BEGIN:VEVENT
DTSTART:20160113T110000Z
DTEND:20160113T120000Z
UID:e16771
DTSTAMP:20260419T182152Z
LOCATION:Helen and Milton A. Kimmelman Building
DESCRIPTION:Membrane proteins structure and dynamics - they both matter
SUMMARY:Membrane proteins structure and dynamics - they both matter
END:VEVENT
END:VCALENDAR