BEGIN:VCALENDAR
VERSION:2.0
PRODID:-//hacksw/handcal//NONSGML v1.0//EN
CALSCALE:GREGORIAN
BEGIN:VEVENT
DTSTART:20160114T110000Z
DTEND:20160114T120000Z
UID:e16775
DTSTAMP:20260419T182152Z
LOCATION:Gerhard M.J. Schmidt Lecture Hall
DESCRIPTION:Packing of Spheres and Molecules
SUMMARY:Packing of Spheres and Molecules
END:VEVENT
END:VCALENDAR