BEGIN:VCALENDAR
VERSION:2.0
PRODID:-//hacksw/handcal//NONSGML v1.0//EN
CALSCALE:GREGORIAN
BEGIN:VEVENT
DTSTART:20160210T070000Z
DTEND:20160210T070000Z
UID:e16777
DTSTAMP:20260421T235359Z
LOCATION:Arthur and Rochelle Belfer Building for Biomedical Research
DESCRIPTION:Nuclear mechanics controls synchronised DNA replication in muscle nuclei
SUMMARY:Nuclear mechanics controls synchronised DNA replication in muscle nuclei
END:VEVENT
END:VCALENDAR