BEGIN:VCALENDAR
VERSION:2.0
PRODID:-//hacksw/handcal//NONSGML v1.0//EN
CALSCALE:GREGORIAN
BEGIN:VEVENT
DTSTART:20160323T070000Z
DTEND:20160323T070000Z
UID:e16780
DTSTAMP:20260421T102849Z
LOCATION:Arthur and Rochelle Belfer Building for Biomedical Research
DESCRIPTION:Shaping the bones while connecting to tendons
SUMMARY:Shaping the bones while connecting to tendons
END:VEVENT
END:VCALENDAR