BEGIN:VCALENDAR
VERSION:2.0
PRODID:-//hacksw/handcal//NONSGML v1.0//EN
CALSCALE:GREGORIAN
BEGIN:VEVENT
DTSTART:20160221T100000Z
DTEND:20160221T100000Z
UID:e16785
DTSTAMP:20260421T051202Z
LOCATION:Arthur and Rochelle Belfer Building for Biomedical Research
DESCRIPTION:The Cost of Living: How to Minimize the Cost of Gene Expression?
SUMMARY:The Cost of Living: How to Minimize the Cost of Gene Expression?
END:VEVENT
END:VCALENDAR