BEGIN:VCALENDAR
VERSION:2.0
PRODID:-//hacksw/handcal//NONSGML v1.0//EN
CALSCALE:GREGORIAN
BEGIN:VEVENT
DTSTART:20160119T081500Z
DTEND:20160119T081500Z
UID:e16788
DTSTAMP:20260422T033919Z
LOCATION:Ullmann Building of Life Sciences
DESCRIPTION:Breaking The Code To Unlock The Wheat Genome
SUMMARY:Breaking The Code To Unlock The Wheat Genome
END:VEVENT
END:VCALENDAR