BEGIN:VCALENDAR
VERSION:2.0
PRODID:-//hacksw/handcal//NONSGML v1.0//EN
CALSCALE:GREGORIAN
BEGIN:VEVENT
DTSTART:20160131T120000Z
DTEND:20160131T130000Z
UID:e16801
DTSTAMP:20260420T085614Z
LOCATION:Camelia Botnar Building
DESCRIPTION:I can see clearly now
SUMMARY:I can see clearly now
END:VEVENT
END:VCALENDAR