BEGIN:VCALENDAR
VERSION:2.0
PRODID:-//hacksw/handcal//NONSGML v1.0//EN
CALSCALE:GREGORIAN
BEGIN:VEVENT
DTSTART:20160121T110000Z
DTEND:20160121T120000Z
UID:e16807
DTSTAMP:20260422T091135Z
LOCATION:Wolfson Building for Biological Research
DESCRIPTION:THYMOSINS\; FROM DISCOVERY TO CLINICAL APPLICATION
SUMMARY:THYMOSINS\; FROM DISCOVERY TO CLINICAL APPLICATION
END:VEVENT
END:VCALENDAR