BEGIN:VCALENDAR
VERSION:2.0
PRODID:-//hacksw/handcal//NONSGML v1.0//EN
CALSCALE:GREGORIAN
BEGIN:VEVENT
DTSTART:20160211T133000Z
DTEND:20160211T151500Z
UID:e16809
DTSTAMP:20260420T081016Z
LOCATION:
DESCRIPTION:Interdisciplinary discussion club – by invitation
SUMMARY:Interdisciplinary discussion club – by invitation
END:VEVENT
END:VCALENDAR