BEGIN:VCALENDAR
VERSION:2.0
PRODID:-//hacksw/handcal//NONSGML v1.0//EN
CALSCALE:GREGORIAN
BEGIN:VEVENT
DTSTART:20160309T170000Z
DTEND:20160309T190000Z
UID:e16813
DTSTAMP:20260421T082758Z
LOCATION:Michael Sela Auditorium
DESCRIPTION:The Israel Camerata Jerusalem - Praise the Lord
SUMMARY:The Israel Camerata Jerusalem - Praise the Lord
END:VEVENT
END:VCALENDAR