BEGIN:VCALENDAR
VERSION:2.0
PRODID:-//hacksw/handcal//NONSGML v1.0//EN
CALSCALE:GREGORIAN
BEGIN:VEVENT
DTSTART:20160118T114500Z
DTEND:20160118T124500Z
UID:e16814
DTSTAMP:20260422T034148Z
LOCATION:Edna and K.B. Weissman Building of Physical Sciences
DESCRIPTION:"The RPWELL ¬ a potential sampling element for (semi-) digital hadron calorimeters"
SUMMARY:"The RPWELL ¬ a potential sampling element for (semi-) digital hadron calorimeters"
END:VEVENT
END:VCALENDAR