BEGIN:VCALENDAR
VERSION:2.0
PRODID:-//hacksw/handcal//NONSGML v1.0//EN
CALSCALE:GREGORIAN
BEGIN:VEVENT
DTSTART:20160119T080000Z
DTEND:20160119T090000Z
UID:e16818
DTSTAMP:20260422T091129Z
LOCATION:Helen and Milton A. Kimmelman Building
DESCRIPTION:MECHANISTIC DIRECTE SYNTHESIS OF POLYPHENOLS BY IRON CATALYSIS
SUMMARY:MECHANISTIC DIRECTE SYNTHESIS OF POLYPHENOLS BY IRON CATALYSIS
END:VEVENT
END:VCALENDAR