BEGIN:VCALENDAR
VERSION:2.0
PRODID:-//hacksw/handcal//NONSGML v1.0//EN
CALSCALE:GREGORIAN
BEGIN:VEVENT
DTSTART:20160221T100000Z
DTEND:20160221T100000Z
UID:e16825
DTSTAMP:20260420T173707Z
LOCATION:Gerhard M.J. Schmidt Lecture Hall
DESCRIPTION:The wind energy potential in Israel evaluated by the new IMS wind Atlas
SUMMARY:The wind energy potential in Israel evaluated by the new IMS wind Atlas
END:VEVENT
END:VCALENDAR