BEGIN:VCALENDAR
VERSION:2.0
PRODID:-//hacksw/handcal//NONSGML v1.0//EN
CALSCALE:GREGORIAN
BEGIN:VEVENT
DTSTART:20160124T100000Z
DTEND:20160124T100000Z
UID:e16826
DTSTAMP:20260423T175919Z
LOCATION:Arthur and Rochelle Belfer Building for Biomedical Research
DESCRIPTION:Agonizing minds: The Monod-Jacobs explorations of gene regulation
SUMMARY:Agonizing minds: The Monod-Jacobs explorations of gene regulation
END:VEVENT
END:VCALENDAR