BEGIN:VCALENDAR
VERSION:2.0
PRODID:-//hacksw/handcal//NONSGML v1.0//EN
CALSCALE:GREGORIAN
BEGIN:VEVENT
DTSTART:20160319T180000Z
DTEND:20160319T180000Z
UID:e16832
DTSTAMP:20260421T213542Z
LOCATION:Michael Sela Auditorium
DESCRIPTION:Ben Ben Baruch - Stand Up 
SUMMARY:Ben Ben Baruch - Stand Up 
END:VEVENT
END:VCALENDAR