BEGIN:VCALENDAR
VERSION:2.0
PRODID:-//hacksw/handcal//NONSGML v1.0//EN
CALSCALE:GREGORIAN
BEGIN:VEVENT
DTSTART:20160308T143000Z
DTEND:20160308T160000Z
UID:e16835
DTSTAMP:20260420T190109Z
LOCATION:Michael Sela Auditorium
DESCRIPTION:Yuval Hamevulbal - children theater 
SUMMARY:Yuval Hamevulbal - children theater 
END:VEVENT
END:VCALENDAR