BEGIN:VCALENDAR
VERSION:2.0
PRODID:-//hacksw/handcal//NONSGML v1.0//EN
CALSCALE:GREGORIAN
BEGIN:VEVENT
DTSTART:20160214T080000Z
DTEND:20160214T080000Z
UID:e16841
DTSTAMP:20260420T122358Z
LOCATION:Perlman Chemical Sciences Building
DESCRIPTION:Metal Organic Frameworks: a Platform for Electrocatalytic Fuel Generation
SUMMARY:Metal Organic Frameworks: a Platform for Electrocatalytic Fuel Generation
END:VEVENT
END:VCALENDAR