BEGIN:VCALENDAR
VERSION:2.0
PRODID:-//hacksw/handcal//NONSGML v1.0//EN
CALSCALE:GREGORIAN
BEGIN:VEVENT
DTSTART:20160221T080000Z
DTEND:20160221T080000Z
UID:e16858
DTSTAMP:20260420T173658Z
LOCATION:
DESCRIPTION:Aeolian Dust Emission from Semi-Arid Soils
SUMMARY:Aeolian Dust Emission from Semi-Arid Soils
END:VEVENT
END:VCALENDAR