BEGIN:VCALENDAR
VERSION:2.0
PRODID:-//hacksw/handcal//NONSGML v1.0//EN
CALSCALE:GREGORIAN
BEGIN:VEVENT
DTSTART:20160211T110000Z
DTEND:20160211T120000Z
UID:e16865
DTSTAMP:20260420T122355Z
LOCATION:Helen and Milton A. Kimmelman Building
DESCRIPTION:Learning Nature’s Strategies for Making Unusual Sugars:
SUMMARY:Learning Nature’s Strategies for Making Unusual Sugars:
END:VEVENT
END:VCALENDAR