BEGIN:VCALENDAR
VERSION:2.0
PRODID:-//hacksw/handcal//NONSGML v1.0//EN
CALSCALE:GREGORIAN
BEGIN:VEVENT
DTSTART:20160211T120000Z
DTEND:20160211T130000Z
UID:e16880
DTSTAMP:20260420T122407Z
LOCATION:Jacob Ziskind Building
DESCRIPTION:Shimon Even Prize in Theoretical Computer Science
SUMMARY:Shimon Even Prize in Theoretical Computer Science
END:VEVENT
END:VCALENDAR