BEGIN:VCALENDAR
VERSION:2.0
PRODID:-//hacksw/handcal//NONSGML v1.0//EN
CALSCALE:GREGORIAN
BEGIN:VEVENT
DTSTART:20160216T081500Z
DTEND:20160216T081500Z
UID:e16884
DTSTAMP:20260420T173706Z
LOCATION:Ullmann Building of Life Sciences
DESCRIPTION:The role of cytosolic ascorbate peroxidases in the stress  response of seeds and pollens in Arabidopsis thaliana
SUMMARY:The role of cytosolic ascorbate peroxidases in the stress  response of seeds and pollens in Arabidopsis thaliana
END:VEVENT
END:VCALENDAR