BEGIN:VCALENDAR
VERSION:2.0
PRODID:-//hacksw/handcal//NONSGML v1.0//EN
CALSCALE:GREGORIAN
BEGIN:VEVENT
DTSTART:20160320T100000Z
DTEND:20160320T100000Z
UID:e16889
DTSTAMP:20260422T033938Z
LOCATION:Arthur and Rochelle Belfer Building for Biomedical Research
DESCRIPTION:Understanding the formation and regulation of contact sites between organelles
SUMMARY:Understanding the formation and regulation of contact sites between organelles
END:VEVENT
END:VCALENDAR