BEGIN:VCALENDAR
VERSION:2.0
PRODID:-//hacksw/handcal//NONSGML v1.0//EN
CALSCALE:GREGORIAN
BEGIN:VEVENT
DTSTART:20160309T093000Z
DTEND:20160309T093000Z
UID:e16894
DTSTAMP:20260420T190108Z
LOCATION:Gerhard M.J. Schmidt Lecture Hall
DESCRIPTION:From Vision to Decisions and Navigation in Mouse Cortex
SUMMARY:From Vision to Decisions and Navigation in Mouse Cortex
END:VEVENT
END:VCALENDAR