BEGIN:VCALENDAR
VERSION:2.0
PRODID:-//hacksw/handcal//NONSGML v1.0//EN
CALSCALE:GREGORIAN
BEGIN:VEVENT
DTSTART:20160321T110000Z
DTEND:20160321T120000Z
UID:e16897
DTSTAMP:20260421T135029Z
LOCATION:Raoul and Graziella de Picciotto Building for Scientific and Technical Support
DESCRIPTION:Leukemia as a developmental disease
SUMMARY:Leukemia as a developmental disease
END:VEVENT
END:VCALENDAR