BEGIN:VCALENDAR
VERSION:2.0
PRODID:-//hacksw/handcal//NONSGML v1.0//EN
CALSCALE:GREGORIAN
BEGIN:VEVENT
DTSTART:20160406T163000Z
DTEND:20160406T190000Z
UID:e16920
DTSTAMP:20260420T081008Z
LOCATION:Michael Sela Auditorium
DESCRIPTION:THE Tempest - Shakespeare in English with Hebrew subtitles 
SUMMARY:THE Tempest - Shakespeare in English with Hebrew subtitles 
END:VEVENT
END:VCALENDAR