BEGIN:VCALENDAR
VERSION:2.0
PRODID:-//hacksw/handcal//NONSGML v1.0//EN
CALSCALE:GREGORIAN
BEGIN:VEVENT
DTSTART:20160313T070000Z
DTEND:20160313T070000Z
UID:e16934
DTSTAMP:20260421T174019Z
LOCATION:Sussman Family Building for Environmental Sciences
DESCRIPTION:Gross primary productivity or The blind men and the Elephant
SUMMARY:Gross primary productivity or The blind men and the Elephant
END:VEVENT
END:VCALENDAR